BEGIN:VCALENDAR
VERSION:2.0
PRODID:-//Plone.org//NONSGML plone.app.event//EN
X-WR-TIMEZONE:US/Pacific
BEGIN:VEVENT
SUMMARY:Stewardship - Forest Park\, Everett
DTSTART;VALUE=DATE:20170603
DTEND;VALUE=DATE:20170604
DTSTAMP;VALUE=DATE-TIME:20260420T233317Z
UID:ce9f2c1a5fd4426c8b78ade49f645607
CATEGORIES:Stewardship
DESCRIPTION:Join Green Everett for a half-day of stewardship at Forest Par
 k (two 1/2 days are needed to earn the stewardship badge).
LOCATION:Forest Park\, Everett
URL:https://www.mountaineers.org/activities/activities/stewardship-forest-
 park-everett-2
END:VEVENT
END:VCALENDAR
