BEGIN:VCALENDAR
VERSION:2.0
PRODID:-//Plone.org//NONSGML plone.app.event//EN
X-WR-TIMEZONE:US/Pacific
BEGIN:VEVENT
SUMMARY:Stewardship - Duk Point
DTSTART;VALUE=DATE:20160423
DTEND;VALUE=DATE:20160424
DTSTAMP;VALUE=DATE-TIME:20260420T131430Z
UID:e215fe0b6c0f46c68aa77c34ddb8a120
CATEGORIES:Stewardship,Day Hiking
DESCRIPTION:Beach Cleanup
LOCATION:Duk Point
URL:https://www.mountaineers.org/activities/activities/stewardship-duk-poi
 nt-2
END:VEVENT
END:VCALENDAR
