BEGIN:VCALENDAR
VERSION:2.0
PRODID:-//Plone.org//NONSGML plone.app.event//EN
X-WR-TIMEZONE:US/Pacific
BEGIN:VEVENT
SUMMARY:Stewardship - Church Creek–Satsop Lakes
DTSTART;VALUE=DATE:20170615
DTEND;VALUE=DATE:20170616
DTSTAMP;VALUE=DATE-TIME:20260420T233608Z
UID:0e0aef5070d44e4796b90ec91fedc514
CATEGORIES:Stewardship
DESCRIPTION:Scouting trail conditions and identify problems following wint
 er rain and snow.
LOCATION:Church Creek–Satsop Lakes
URL:https://www.mountaineers.org/activities/activities/stewardship-church-
 creek2013satsop-lakes-8
END:VEVENT
END:VCALENDAR
