BEGIN:VCALENDAR
VERSION:2.0
PRODID:-//Plone.org//NONSGML plone.app.event//EN
X-WR-TIMEZONE:US/Pacific
BEGIN:VEVENT
SUMMARY:Stewardship - Cheasty Greenspace
DTSTART;VALUE=DATE:20180602
DTEND;VALUE=DATE:20180603
DTSTAMP;VALUE=DATE-TIME:20260422T210433Z
UID:1e65dad3d9f042ba9dc62c55fc27d5f5
CATEGORIES:Stewardship
DESCRIPTION:Come participate in the community stewardship effort to restor
 e and maintain a safe and welcoming urban forest! This activity is run by 
 Friends of Cheasty Greenspace Mt. View as part of The Mountaineers Steward
 ship Partner Program. As such\, you may have to sign waivers or other ackn
 owledgements of the host organization.
LOCATION:Cheasty Greenspace
URL:https://www.mountaineers.org/activities/activities/stewardship-cheasty
 -greenspace-55
END:VEVENT
END:VCALENDAR
