BEGIN:VCALENDAR
VERSION:2.0
PRODID:-//Plone.org//NONSGML plone.app.event//EN
X-WR-TIMEZONE:US/Pacific
BEGIN:VEVENT
SUMMARY:Sea Kayak - Neah Bay
DTSTART;VALUE=DATE:20200802
DTEND;VALUE=DATE:20200803
DTSTAMP;VALUE=DATE-TIME:20260425T125810Z
UID:890f850031d8485cb12421e83032ea5d
CATEGORIES:Sea Kayaking
DESCRIPTION:Rock Gardening at Waadah Island and possible landings at First
 /Second/Third Beaches.
LOCATION:Neah Bay
URL:https://www.mountaineers.org/activities/activities/sea-kayak-neah-bay-
 4
END:VEVENT
END:VCALENDAR
