BEGIN:VCALENDAR
VERSION:2.0
PRODID:-//Plone.org//NONSGML plone.app.event//EN
X-WR-TIMEZONE:US/Pacific
BEGIN:VEVENT
SUMMARY:Day Hike - Stegosaurus Butte
DTSTART;VALUE=DATE:20240508
DTEND;VALUE=DATE:20240509
DTSTAMP;VALUE=DATE-TIME:20260419T062917Z
UID:31677f301f2d460986d037227260e990
CATEGORIES:Day Hiking
DESCRIPTION:Changed to Wed from Tue due to weather.  Short hike.  Please r
 ead leader's notes.
LOCATION:Stegosaurus Butte
URL:https://www.mountaineers.org/activities/activities/day-hike-stegosauru
 s-butte-2
END:VEVENT
END:VCALENDAR
