BEGIN:VCALENDAR
VERSION:2.0
PRODID:-//Plone.org//NONSGML plone.app.event//EN
X-WR-TIMEZONE:US/Pacific
BEGIN:VEVENT
SUMMARY:Day Hike - Squak Mountain Access Trail
DTSTART;VALUE=DATE:20260423
DTEND;VALUE=DATE:20260424
DTSTAMP;VALUE=DATE-TIME:20260419T155540Z
UID:d76a547fc236487e8f207767a5211109
CATEGORIES:Day Hiking
DESCRIPTION:An afternoon lollipop loop on Squak Mountain using less popula
 r trails\, and observing the recently-completed trail clearing effort from
  the October 2024 storm.
LOCATION:Squak Mountain Access Trail
URL:https://www.mountaineers.org/activities/activities/day-hike-squak-moun
 tain-access-trail-4
END:VEVENT
END:VCALENDAR
