BEGIN:VCALENDAR
VERSION:2.0
PRODID:-//Plone.org//NONSGML plone.app.event//EN
X-WR-TIMEZONE:US/Pacific
BEGIN:VEVENT
SUMMARY:Day Hike - Seven Hills of Seattle
DTSTART;VALUE=DATE:20100404
DTEND;VALUE=DATE:20100405
DTSTAMP;VALUE=DATE-TIME:20260424T095554Z
UID:6d40f625534d4bafa84ca65f8ec6993e
CATEGORIES:Day Hiking
DESCRIPTION:Seven Hills of Seattle
LOCATION:Route-Place TBD
URL:https://www.mountaineers.org/activities/activities/day-hike-seven-hill
 s-of-seattle-4
END:VEVENT
END:VCALENDAR
