BEGIN:VCALENDAR
VERSION:2.0
PRODID:-//Plone.org//NONSGML plone.app.event//EN
X-WR-TIMEZONE:US/Pacific
BEGIN:VEVENT
SUMMARY:Day Hike - Paradise Area Trails
DTSTART;VALUE=DATE:20170820
DTEND;VALUE=DATE:20170821
DTSTAMP;VALUE=DATE-TIME:20260420T234014Z
UID:56ab7dbb48b9426989815b2577970382
CATEGORIES:Photography
DESCRIPTION:Photography scenery while hiking at a leisurely pace.
LOCATION:Paradise Area Trails
URL:https://www.mountaineers.org/activities/activities/day-hike-paradise-a
 rea-trails
END:VEVENT
END:VCALENDAR
