BEGIN:VCALENDAR
VERSION:2.0
PRODID:-//Plone.org//NONSGML plone.app.event//EN
X-WR-TIMEZONE:US/Pacific
BEGIN:VEVENT
SUMMARY:Day Hike - Mount Washington (Snoqualmie)
DTSTART;VALUE=DATE:20250723
DTEND;VALUE=DATE:20250724
DTSTAMP;VALUE=DATE-TIME:20260422T093953Z
UID:b3b2eba32a90420c9d2cd10f816dc0aa
CATEGORIES:Day Hiking
DESCRIPTION:A close-in hike with 3+k' gain that gets less human traffic th
 an Si\, Mailbox\, etc. Likely on Wed. we'll have lingering wildflowers\, p
 anoramic views\, and some bugs. The trail is rocky in places.
LOCATION:Mount Washington (Snoqualmie)
URL:https://www.mountaineers.org/activities/activities/day-hike-mount-wash
 ington-snoqualmie-90
END:VEVENT
END:VCALENDAR
