BEGIN:VCALENDAR
VERSION:2.0
PRODID:-//Plone.org//NONSGML plone.app.event//EN
X-WR-TIMEZONE:US/Pacific
BEGIN:VEVENT
SUMMARY:Bikepack - Oregon North Coast Fat Bike\, South Beach OR
DTSTART;VALUE=DATE:20260419
DTEND;VALUE=DATE:20260420
DTSTAMP;VALUE=DATE-TIME:20260420T021326Z
UID:181235bd0f124ca087250370043e1db8
CATEGORIES:Bikepacking
DESCRIPTION:This trip is a series of fat bike day rides featuring a downwi
 nd ride from South Beach State Park to Yachats\, which covers approximatel
 y 23 miles and will be a shuttle-assisted point-to-point ride (e.g. one
 -way). We will start the ride at either South Beach or Yachats\, depending
  on wind direction. This ride is about 19 miles on beach and 4 miles on ro
 ads with shoulders or sidewalks. Day rides on other days. Fat bikes are re
 quired. E-bikes are not allowed.
LOCATION:Oregon North Coast Fat Bike\, South Beach OR
URL:https://www.mountaineers.org/activities/activities/bikepack-oregon-nor
 th-coast-fat-bike-south-beach-or
END:VEVENT
END:VCALENDAR
