BEGIN:VCALENDAR
VERSION:2.0
PRODID:-//Plone.org//NONSGML plone.app.event//EN
X-WR-TIMEZONE:US/Pacific
BEGIN:VEVENT
SUMMARY:Beginner Snowshoe - Methow Valley Winter Trails
DTSTART;VALUE=DATE:20170108
DTEND;VALUE=DATE:20170109
DTSTAMP;VALUE=DATE-TIME:20260419T174615Z
UID:dd7cfd0351ea46d181dd61ec9be997c4
CATEGORIES:Snowshoeing
DESCRIPTION:This is a social pace snowshoe\, for fun and learning!
LOCATION:Methow Valley Winter Trails
URL:https://www.mountaineers.org/activities/activities/beginner-snowshoe-m
 ethow-valley-winter-trails-5
END:VEVENT
END:VCALENDAR
