BEGIN:VCALENDAR
VERSION:2.0
PRODID:-//Plone.org//NONSGML plone.app.event//EN
X-WR-TIMEZONE:US/Pacific
BEGIN:VEVENT
SUMMARY:Basic Glacier Climb - Snowfield Peak/Neve Glacier
DTSTART;VALUE=DATE:20260711
DTEND;VALUE=DATE:20260712
DTSTAMP;VALUE=DATE-TIME:20260421T181911Z
UID:eb716e52ac004715be422eabc0db8a3d
CATEGORIES:Climbing
DESCRIPTION:Two-day climb of Snowfield Peak. Priority to Seattle Intensive
  Basic students until June 19\, 2026. Leaders can request permission start
 ing on May 1\, 2026.
LOCATION:Snowfield Peak/Neve Glacier
URL:https://www.mountaineers.org/activities/activities/basic-glacier-climb
 -snowfield-peak-neve-glacier-26
END:VEVENT
END:VCALENDAR
