BEGIN:VCALENDAR
VERSION:2.0
PRODID:-//Plone.org//NONSGML plone.app.event//EN
X-WR-TIMEZONE:US/Pacific
BEGIN:VEVENT
SUMMARY:Basic Glacier Climb - Mount Baker/Easton Glacier
DTSTART;VALUE=DATE:20260725
DTEND;VALUE=DATE:20260726
DTSTAMP;VALUE=DATE-TIME:20260421T181841Z
UID:6fb06d45788d46b685e16549c4c889ec
CATEGORIES:Climbing
DESCRIPTION:Two day climb of Mount Baker via the Easton Glacier. Priority 
 to Seattle Intensive Basic Students until July 5\, 2026. Leader permission
  requests prior to registration opening will be ignored.
LOCATION:Mount Baker/Easton Glacier
URL:https://www.mountaineers.org/activities/activities/basic-glacier-climb
 -mount-baker-easton-glacier-83
END:VEVENT
END:VCALENDAR
