BEGIN:VCALENDAR
VERSION:2.0
PRODID:-//Plone.org//NONSGML plone.app.event//EN
X-WR-TIMEZONE:US/Pacific
BEGIN:VEVENT
SUMMARY:Alpine Scramble - Pratt Mountain
DTSTART;VALUE=DATE:20220520
DTEND;VALUE=DATE:20220521
DTSTAMP;VALUE=DATE-TIME:20260424T094519Z
UID:95c18f0967964a068849a0a85f1651e2
CATEGORIES:Scrambling
DESCRIPTION:Car shuttle trip up one side of Pratt mountain and down the ot
 her.  We plan to start at the Granite Mountain trailhead\, hike to Olallie
  Lake\, scramble up the SE ridge of Pratt\, descend the NW ridge to Rainbo
 w Lake\, then hike over to Mason Lake and descend to the Mason Lake trailh
 ead.
LOCATION:Pratt Mountain
URL:https://www.mountaineers.org/activities/activities/alpine-scramble-pra
 tt-mountain-18
END:VEVENT
END:VCALENDAR
