BEGIN:VCALENDAR
VERSION:2.0
PRODID:-//Plone.org//NONSGML plone.app.event//EN
X-WR-TIMEZONE:US/Pacific
BEGIN:VEVENT
SUMMARY:Alpine Scramble - Mount Ellinor (winter)
DTSTART;VALUE=DATE:20190426
DTEND;VALUE=DATE:20190427
DTSTAMP;VALUE=DATE-TIME:20260421T092336Z
UID:230ea00d8f7048d0ad5e91b91b73e9a8
CATEGORIES:Scrambling
DESCRIPTION:A Snow climb of a classic peak\, Mt Ellinor\,  up a steep snow
  chute (usually requiring crampons and Ice Ax) to the peak from the upper 
 trailhead\, with a nice glissade opportunity on the way down.  Must have g
 ood snow skills and completed both Snow Field trips.  Priority given to Ol
 ympia Alpine Scrambling students.
LOCATION:Mount Ellinor (winter)
URL:https://www.mountaineers.org/activities/activities/alpine-scramble-mou
 nt-ellinor-winter-3
END:VEVENT
END:VCALENDAR
