BEGIN:VCALENDAR
VERSION:2.0
PRODID:-//Plone.org//NONSGML plone.app.event//EN
X-WR-TIMEZONE:US/Pacific
BEGIN:VEVENT
SUMMARY:Rockfest 2026
DTSTART;VALUE=DATE-TIME:20260502T080000
DTEND;VALUE=DATE-TIME:20260502T210000
DTSTAMP;VALUE=DATE-TIME:20260422T052019Z
UID:a34bbc89111b4c3b9bfb1968b5bb64cc@localhost:6081
CREATED;VALUE=DATE-TIME:20260421T232957Z
DESCRIPTION:Washington's biggest rock climbing festival is back - a full d
 ay of climbing\, clinics\, music\, & community. Hosted by Leavenworth Moun
 tain Association. Mountaineers volunteers will be onsite with information 
 about our programs and community.
LAST-MODIFIED;VALUE=DATE-TIME:20260421T233118Z
LOCATION:Leavenworth\, WA
URL:https://www.mountaineers.org/about/vision-leadership/events/rockfest-2
 026
END:VEVENT
BEGIN:VTIMEZONE
TZID:America/Los_Angeles
X-LIC-LOCATION:America/Los_Angeles
BEGIN:DAYLIGHT
DTSTART;VALUE=DATE-TIME:20260308T030000
TZNAME:PDT
TZOFFSETFROM:-0800
TZOFFSETTO:-0700
END:DAYLIGHT
END:VTIMEZONE
END:VCALENDAR
