BEGIN:VCALENDAR
VERSION:2.0
PRODID:-//Plone.org//NONSGML plone.app.event//EN
X-WR-TIMEZONE:US/Pacific
BEGIN:VEVENT
SUMMARY:Mountaineers Info Table at REI (Lynnwood)
DTSTART;VALUE=DATE-TIME:20260314T103000
DTEND;VALUE=DATE-TIME:20260314T153000
DTSTAMP;VALUE=DATE-TIME:20260421T182233Z
UID:bd8922c873dc4f1182acdb6b192b9f3b@localhost:6081
CREATED;VALUE=DATE-TIME:20260220T182307Z
DESCRIPTION:Sign up as a tabling volunteer at the in-store event celebrati
 ng REI members. Mountaineers volunteers will be onsite with information ab
 out our programs and community.
LAST-MODIFIED;VALUE=DATE-TIME:20260310T200910Z
LOCATION:REI Lynnwood
URL:https://www.mountaineers.org/about/vision-leadership/events/mountainee
 r-table-at-rei-member-day-store-party-lynnwood
END:VEVENT
BEGIN:VTIMEZONE
TZID:America/Los_Angeles
X-LIC-LOCATION:America/Los_Angeles
BEGIN:DAYLIGHT
DTSTART;VALUE=DATE-TIME:20260308T030000
TZNAME:PDT
TZOFFSETFROM:-0800
TZOFFSETTO:-0700
END:DAYLIGHT
END:VTIMEZONE
END:VCALENDAR
