BEGIN:VCALENDAR
VERSION:2.0
PRODID:-//Plone.org//NONSGML plone.app.event//EN
X-WR-TIMEZONE:US/Pacific
BEGIN:VEVENT
SUMMARY:Monthly Equity & Belonging Committee Meetings
DTSTART;VALUE=DATE-TIME:20260219T183000
DTEND;VALUE=DATE-TIME:20260219T200000
DTSTAMP;VALUE=DATE-TIME:20260425T173409Z
UID:6acad2463e7843cfb17aba789bc6a597@localhost:6081
CREATED;VALUE=DATE-TIME:20250908T223300Z
DESCRIPTION:Monthly meetings for Equity & Belonging Committee members
LAST-MODIFIED;VALUE=DATE-TIME:20260202T205027Z
LOCATION:Zoom
URL:https://www.mountaineers.org/about/vision-leadership/events/monthly-eq
 uity-belonging-committee-meetings-2026-02-12
END:VEVENT
BEGIN:VTIMEZONE
TZID:America/Los_Angeles
X-LIC-LOCATION:America/Los_Angeles
BEGIN:STANDARD
DTSTART;VALUE=DATE-TIME:20251102T010000
TZNAME:PST
TZOFFSETFROM:-0700
TZOFFSETTO:-0800
END:STANDARD
END:VTIMEZONE
END:VCALENDAR
