BEGIN:VCALENDAR
VERSION:2.0
PRODID:-//Plone.org//NONSGML plone.app.event//EN
X-WR-TIMEZONE:US/Pacific
BEGIN:VEVENT
SUMMARY:Conservation Policy & Advocacy Update: Defending our Roadless Fore
 sts
DTSTART;VALUE=DATE-TIME:20260422T123000
DTEND;VALUE=DATE-TIME:20260422T133000
DTSTAMP;VALUE=DATE-TIME:20260421T043547Z
UID:b1512457c2664238b4b766b6cdcc22d7@localhost:6081
CREATED;VALUE=DATE-TIME:20260331T231207Z
DESCRIPTION:Join our conservation team virtually Wednesday\, April 22 to h
 ear the latest policy updates on the administration's rollback of Roadless
  protections for 2 million acres of backcountry national forests in Washin
 gton. We’ll also share about our advocacy with partners on behalf of our
  community and the top actions you can take to defend the Roadless Rule.
LAST-MODIFIED;VALUE=DATE-TIME:20260416T190520Z
LOCATION:Zoom
URL:https://www.mountaineers.org/about/vision-leadership/events/conservati
 on-policy-advocacy-update-defending-our-roadless-forests
END:VEVENT
BEGIN:VTIMEZONE
TZID:America/Los_Angeles
X-LIC-LOCATION:America/Los_Angeles
BEGIN:DAYLIGHT
DTSTART;VALUE=DATE-TIME:20260308T030000
TZNAME:PDT
TZOFFSETFROM:-0800
TZOFFSETTO:-0700
END:DAYLIGHT
END:VTIMEZONE
END:VCALENDAR
