BEGIN:VCALENDAR
VERSION:2.0
PRODID:-//Plone.org//NONSGML plone.app.event//EN
X-WR-TIMEZONE:US/Pacific
BEGIN:VEVENT
SUMMARY:Technical Skills for Single Pitch Climbs - Mountaineers Seattle Pr
 ogram Center
DTSTART;VALUE=DATE:20210925
DTEND;VALUE=DATE:20210926
DTSTAMP;VALUE=DATE-TIME:20260420T230420Z
UID:7a911ef066ac4ca8956ab81c2d27a4fb
CATEGORIES:Climbing
DESCRIPTION:A day of skills training specifically for MEA LEAD Applicants.
  Please note\, this program will only run with a minimum of 4 enrollments.
  The deadline for enrollment is August 31.
LOCATION:Mountaineers Seattle Program Center
URL:https://www.mountaineers.org/about/vision-leadership/board-of-director
 s/committees/uiaa-standards-committee/seminars-clinics/technical-skills-fo
 r-single-pitch-climbs-mountaineers-seattle-program-center
END:VEVENT
END:VCALENDAR
