BEGIN:VCALENDAR
VERSION:2.0
PRODID:-//Plone.org//NONSGML plone.app.event//EN
X-WR-TIMEZONE:US/Pacific
BEGIN:VEVENT
SUMMARY:Wildfire and Pacific Northwest: How Fire is Impacting our Public L
 ands and Outdoor Experiences - Online Classroom
DTSTART;VALUE=DATE:20250506
DTEND;VALUE=DATE:20250507
DTSTAMP;VALUE=DATE-TIME:20260422T223542Z
UID:240d2ff07c4c4cceac8153ccd146bd07
CATEGORIES:Outdoor Leadership
DESCRIPTION:Online webinar on how fire is impacting public lands and outdo
 or experiences with The Mountaineers Conservation & Advocacy team. A Leade
 rship Development Series presentation.
LOCATION:Online Classroom
URL:https://www.mountaineers.org/about/vision-leadership/board-of-director
 s/committees/branch-leadership-committee/outdoor-leadership-committee/semi
 nars-clinics/wildfire-and-pacific-northwest-how-fire-is-impacting-our-publ
 ic-lands-and-outdoor-experiences-online-classroom
END:VEVENT
END:VCALENDAR
