BEGIN:VCALENDAR
VERSION:2.0
PRODID:-//Plone.org//NONSGML plone.app.event//EN
X-WR-TIMEZONE:US/Pacific
BEGIN:VEVENT
SUMMARY:Why Diversity\, Equity\, and Inclusion in Parks\, Recreation\, and
  Outdoor Spaces Matters - Online Classroom
DTSTART;VALUE=DATE:20240228
DTEND;VALUE=DATE:20240229
DTSTAMP;VALUE=DATE-TIME:20260422T195803Z
UID:abfd3a19a9db4708a3d5294abeed298b
CATEGORIES:Outdoor Leadership
DESCRIPTION:Online Webinar with Dr. Todd Davis on integrating DEI principl
 es into outdoor adventure education practices. A Leadership Development Se
 ries presentation.
LOCATION:Online Classroom
URL:https://www.mountaineers.org/about/vision-leadership/board-of-director
 s/committees/branch-leadership-committee/outdoor-leadership-committee/semi
 nars-clinics/why-diversity-equity-and-inclusion-in-parks-recreation-and-ou
 tdoor-spaces-matters-online-classroom
END:VEVENT
END:VCALENDAR
