BEGIN:VCALENDAR
VERSION:2.0
PRODID:-//Plone.org//NONSGML plone.app.event//EN
X-WR-TIMEZONE:US/Pacific
BEGIN:VEVENT
SUMMARY:What’s Next? Moving Beyond DEI 101 - Online Classroom
DTSTART;VALUE=DATE:20250305
DTEND;VALUE=DATE:20250306
DTSTAMP;VALUE=DATE-TIME:20260422T223011Z
UID:ce8e8cafc9844d64b0835d243407895e
CATEGORIES:Outdoor Leadership
DESCRIPTION:Online webinar with Bam Mendiola on how we can collectively an
 swer the question\, "What's Next?" and move beyond DEI 101. Part of the Le
 adership Development Series.
LOCATION:Online Classroom
URL:https://www.mountaineers.org/about/vision-leadership/board-of-director
 s/committees/branch-leadership-committee/outdoor-leadership-committee/semi
 nars-clinics/what2019s-next-moving-beyond-dei-101-online-classroom
END:VEVENT
END:VCALENDAR
