BEGIN:VCALENDAR
VERSION:2.0
PRODID:-//Plone.org//NONSGML plone.app.event//EN
X-WR-TIMEZONE:US/Pacific
BEGIN:VEVENT
SUMMARY:We can do better than the poo sandwich: move beyond constructive c
 riticism to deliver feedback that actually leads to improvement” - Onlin
 e Classroom
DTSTART;VALUE=DATE:20230405
DTEND;VALUE=DATE:20230406
DTSTAMP;VALUE=DATE-TIME:20260422T223154Z
UID:819260c4ce474edc946428350ba64e9a
CATEGORIES:Outdoor Leadership
DESCRIPTION:Online webinar on delivering productive feedback with Liz Rigg
 s Meder. Part of the of the Leadership Development Series.
LOCATION:Online Classroom
URL:https://www.mountaineers.org/about/vision-leadership/board-of-director
 s/committees/branch-leadership-committee/outdoor-leadership-committee/semi
 nars-clinics/we-can-do-better-than-the-poo-sandwich-move-beyond-constructi
 ve-criticism-to-deliver-feedback-that-actually-leads-to-improvement201d-on
 line-classroom
END:VEVENT
END:VCALENDAR
