BEGIN:VCALENDAR
VERSION:2.0
PRODID:-//Plone.org//NONSGML plone.app.event//EN
X-WR-TIMEZONE:US/Pacific
BEGIN:VEVENT
SUMMARY:Use Your Outside Voice: Lessons From Nature On Speaking Up - Onlin
 e Classroom
DTSTART;VALUE=DATE:20240319
DTEND;VALUE=DATE:20240320
DTSTAMP;VALUE=DATE-TIME:20260422T200156Z
UID:5058a68012d94d17b2a116d1016c43b1
CATEGORIES:Outdoor Leadership
DESCRIPTION:An evening webinar with Angie Marie on communicating equitably
  and planning safely in the outdoors. A Leadership Development Series pres
 entation.
LOCATION:Online Classroom
URL:https://www.mountaineers.org/about/vision-leadership/board-of-director
 s/committees/branch-leadership-committee/outdoor-leadership-committee/semi
 nars-clinics/use-your-outside-voice-lessons-from-nature-on-speaking-up-onl
 ine-classroom
END:VEVENT
END:VCALENDAR
