BEGIN:VCALENDAR
VERSION:2.0
PRODID:-//Plone.org//NONSGML plone.app.event//EN
X-WR-TIMEZONE:US/Pacific
BEGIN:VEVENT
SUMMARY:Understanding Treaty Rights in Today's Landscape: A Tulalip Perspe
 ctive - Tulalip Tribes Administrative Building
DTSTART;VALUE=DATE:20191019
DTEND;VALUE=DATE:20191020
DTSTAMP;VALUE=DATE-TIME:20260420T081557Z
UID:84cd76b8ba71446c913cdb1bd1f3ce8c
CATEGORIES:Outdoor Leadership
DESCRIPTION:Join members of the Tulalip Tribes to learn about recreation a
 nd treaty rights.
LOCATION:Tulalip Tribes Administrative Building
URL:https://www.mountaineers.org/about/vision-leadership/board-of-director
 s/committees/branch-leadership-committee/outdoor-leadership-committee/semi
 nars-clinics/understanding-treaty-rights-in-todays-landscape-a-tulalip-per
 spective-tulalip-dining-hall
END:VEVENT
END:VCALENDAR
