BEGIN:VCALENDAR
VERSION:2.0
PRODID:-//Plone.org//NONSGML plone.app.event//EN
X-WR-TIMEZONE:US/Pacific
BEGIN:VEVENT
SUMMARY:These Are Not “Soft Skills”! Facilitating Psychological Safety
 : A Foundational Risk Management Skill - Online Classroom
DTSTART;VALUE=DATE:20220322
DTEND;VALUE=DATE:20220323
DTSTAMP;VALUE=DATE-TIME:20260419T175103Z
UID:cb64dc34cdd24c5983eaee1c887b167d
CATEGORIES:Outdoor Leadership
DESCRIPTION:Evening webinar on managing emotional safety with Steve Smith.
  This session will be online only.
LOCATION:Online Classroom
URL:https://www.mountaineers.org/about/vision-leadership/board-of-director
 s/committees/branch-leadership-committee/outdoor-leadership-committee/semi
 nars-clinics/these-are-not-soft-skills-facilitating-emotional-safety-a-fou
 ndational-risk-management-skill-online-classroom-march-2022
END:VEVENT
END:VCALENDAR
