BEGIN:VCALENDAR
VERSION:2.0
PRODID:-//Plone.org//NONSGML plone.app.event//EN
X-WR-TIMEZONE:US/Pacific
BEGIN:VEVENT
SUMMARY:These Are Not “Soft Skills”! Facilitating Psychological Safety
 : A Foundational Risk Management Skill - Online Classroom
DTSTART;VALUE=DATE:20251014
DTEND;VALUE=DATE:20251015
DTSTAMP;VALUE=DATE-TIME:20260422T223548Z
UID:761c3e0436fb4b7d8df65164ac8c0d2e
CATEGORIES:Outdoor Leadership
DESCRIPTION:Online webinar on facilitating emotional safety with Steve Smi
 th. A Leadership Development Series presentation.
LOCATION:Online Classroom
URL:https://www.mountaineers.org/about/vision-leadership/board-of-director
 s/committees/branch-leadership-committee/outdoor-leadership-committee/semi
 nars-clinics/these-are-not-201csoft-skills201d-facilitating-psychological-
 safety-a-foundational-risk-management-skill-online-classroom-1
END:VEVENT
END:VCALENDAR
