BEGIN:VCALENDAR
VERSION:2.0
PRODID:-//Plone.org//NONSGML plone.app.event//EN
X-WR-TIMEZONE:US/Pacific
BEGIN:VEVENT
SUMMARY:The Real DEI: Lessons Learned Around the Unity Blaze - Online Clas
 sroom
DTSTART;VALUE=DATE:20220221
DTEND;VALUE=DATE:20220222
DTSTAMP;VALUE=DATE-TIME:20260422T223517Z
UID:10b380de1f0c4fe6a7b8424b089d9207
CATEGORIES:Outdoor Leadership
DESCRIPTION:Evening webinar on DEI lessons learned with Steven Reinhold. T
 his session will be online only
LOCATION:Online Classroom
URL:https://www.mountaineers.org/about/vision-leadership/board-of-director
 s/committees/branch-leadership-committee/outdoor-leadership-committee/semi
 nars-clinics/the-real-dei-lessons-learned-around-the-unity-blaze-online-cl
 assroom
END:VEVENT
END:VCALENDAR
