BEGIN:VCALENDAR
VERSION:2.0
PRODID:-//Plone.org//NONSGML plone.app.event//EN
X-WR-TIMEZONE:US/Pacific
BEGIN:VEVENT
SUMMARY:The Big 3: Planning For\, Assessing\, and Implementing Effective I
 nstruction - Online Classroom
DTSTART;VALUE=DATE:20221026
DTEND;VALUE=DATE:20221027
DTSTAMP;VALUE=DATE-TIME:20260422T222944Z
UID:ba242d4077a34ea4accba843c732c58e
CATEGORIES:Outdoor Leadership
DESCRIPTION:Online webinar on techniques to improve the quality of your te
 aching with Ben Brown
LOCATION:Online Classroom
URL:https://www.mountaineers.org/about/vision-leadership/board-of-director
 s/committees/branch-leadership-committee/outdoor-leadership-committee/semi
 nars-clinics/the-big-3-planning-for-assessing-and-implementing-effective-i
 nstruction-online-classroom-2
END:VEVENT
END:VCALENDAR
