BEGIN:VCALENDAR
VERSION:2.0
PRODID:-//Plone.org//NONSGML plone.app.event//EN
X-WR-TIMEZONE:US/Pacific
BEGIN:VEVENT
SUMMARY:The Big 3: Planning For\, Assessing\, and Implementing Effective I
 nstruction - Online Classroom
DTSTART;VALUE=DATE:20220425
DTEND;VALUE=DATE:20220426
DTSTAMP;VALUE=DATE-TIME:20260419T175020Z
UID:a5ef462dcc0546029e7fbf4451869a22
CATEGORIES:Outdoor Leadership
DESCRIPTION:Evening webinar workshop to practice skills and techniques to 
 improve quality of your teaching with Ben Brown. This session will be onli
 ne only.
LOCATION:Online Classroom
URL:https://www.mountaineers.org/about/vision-leadership/board-of-director
 s/committees/branch-leadership-committee/outdoor-leadership-committee/semi
 nars-clinics/the-big-3-planning-for-assessing-and-implementing-effective-i
 nstruction-online-classroom-1
END:VEVENT
END:VCALENDAR
