BEGIN:VCALENDAR
VERSION:2.0
PRODID:-//Plone.org//NONSGML plone.app.event//EN
X-WR-TIMEZONE:US/Pacific
BEGIN:VEVENT
SUMMARY:Soft Skills for the Win - Online Classroom
DTSTART;VALUE=DATE:20211207
DTEND;VALUE=DATE:20211208
DTSTAMP;VALUE=DATE-TIME:20260422T223542Z
UID:e05e1e39a5d0460b89e51f7d991393d0
CATEGORIES:Outdoor Leadership
DESCRIPTION:Evening webinar designed to strengthen the understanding of So
 ft Skills with Ken Shaffer. This session will be online only.
LOCATION:Online Classroom
URL:https://www.mountaineers.org/about/vision-leadership/board-of-director
 s/committees/branch-leadership-committee/outdoor-leadership-committee/semi
 nars-clinics/soft-skills-for-the-win-online-classroom-1
END:VEVENT
END:VCALENDAR
