BEGIN:VCALENDAR
VERSION:2.0
PRODID:-//Plone.org//NONSGML plone.app.event//EN
X-WR-TIMEZONE:US/Pacific
BEGIN:VEVENT
SUMMARY:Sharing Your "Operational Working Memory" With Future Generations 
 to Create a Safer Trip Environment - Online Classroom
DTSTART;VALUE=DATE:20201216
DTEND;VALUE=DATE:20201217
DTSTAMP;VALUE=DATE-TIME:20260422T222838Z
UID:8111ebcc4359402a9260092e6222ac31
CATEGORIES:Outdoor Leadership
DESCRIPTION:Evening webinar on sharing our operational working memory to r
 educe repeat errors and create a safer trip environment. Presented by Jona
 thon Spitzer. This session will be online only.
LOCATION:Online Classroom
URL:https://www.mountaineers.org/about/vision-leadership/board-of-director
 s/committees/branch-leadership-committee/outdoor-leadership-committee/semi
 nars-clinics/sharing-your-operational-working-memory-with-future-generatio
 ns-to-create-a-safer-trip-environment-online-classroom
END:VEVENT
END:VCALENDAR
