BEGIN:VCALENDAR
VERSION:2.0
PRODID:-//Plone.org//NONSGML plone.app.event//EN
X-WR-TIMEZONE:US/Pacific
BEGIN:VEVENT
SUMMARY:SAFER-R Peer Support - Online Classroom
DTSTART;VALUE=DATE:20231206
DTEND;VALUE=DATE:20231207
DTSTAMP;VALUE=DATE-TIME:20260422T223036Z
UID:ae40a056e91c425fb11404d3833b4315
CATEGORIES:Outdoor Leadership
DESCRIPTION:Online webinar on the SAFER-R model of psychological first ai
 d with Katja Hurt. A Leadership Development Series presentation.
LOCATION:Online Classroom
URL:https://www.mountaineers.org/about/vision-leadership/board-of-director
 s/committees/branch-leadership-committee/outdoor-leadership-committee/semi
 nars-clinics/safer-r-peer-support-online-classroom
END:VEVENT
END:VCALENDAR
