BEGIN:VCALENDAR
VERSION:2.0
PRODID:-//Plone.org//NONSGML plone.app.event//EN
X-WR-TIMEZONE:US/Pacific
BEGIN:VEVENT
SUMMARY:SAFER-R Peer Support - Online Classroom
DTSTART;VALUE=DATE:20240327
DTEND;VALUE=DATE:20240328
DTSTAMP;VALUE=DATE-TIME:20260422T223010Z
UID:b95b65dfe9c243febbb4048ea247ca84
CATEGORIES:Outdoor Leadership
DESCRIPTION:Remote session on crisis support\, and an optional suicide pre
 vention and intervention training\, with Katja Hurt. A Leadership Developm
 ent Series presentation.
LOCATION:Online Classroom
URL:https://www.mountaineers.org/about/vision-leadership/board-of-director
 s/committees/branch-leadership-committee/outdoor-leadership-committee/semi
 nars-clinics/safer-r-peer-support-online-classroom-2
END:VEVENT
END:VCALENDAR
