BEGIN:VCALENDAR
VERSION:2.0
PRODID:-//Plone.org//NONSGML plone.app.event//EN
X-WR-TIMEZONE:US/Pacific
BEGIN:VEVENT
SUMMARY:SAFER-R Peer Support - Online Classroom
DTSTART;VALUE=DATE:20240131
DTEND;VALUE=DATE:20240201
DTSTAMP;VALUE=DATE-TIME:20260422T223057Z
UID:f765fc5c80c344c98ad926f77d23294c
CATEGORIES:Outdoor Leadership
DESCRIPTION:Remote session on crisis support\, and an optional suicide pre
 vention and intervention training\, with Katja Hurt. A Leadership Developm
 ent Series presentation.
LOCATION:Online Classroom
URL:https://www.mountaineers.org/about/vision-leadership/board-of-director
 s/committees/branch-leadership-committee/outdoor-leadership-committee/semi
 nars-clinics/safer-r-peer-support-online-classroom-1
END:VEVENT
END:VCALENDAR
