BEGIN:VCALENDAR
VERSION:2.0
PRODID:-//Plone.org//NONSGML plone.app.event//EN
X-WR-TIMEZONE:US/Pacific
BEGIN:VEVENT
SUMMARY:SAFER-R Peer Support - Mountaineers Seattle Program Center
DTSTART;VALUE=DATE:20240421
DTEND;VALUE=DATE:20240422
DTSTAMP;VALUE=DATE-TIME:20260422T223455Z
UID:664ce4a5c4e341069fea4b8ede56532e
CATEGORIES:Outdoor Leadership
DESCRIPTION:In-person training on crisis support\, and an optional suicide
  prevention and intervention training\, with Katja Hurt. A Leadership Deve
 lopment Series presentation.
LOCATION:Mountaineers Seattle Program Center
URL:https://www.mountaineers.org/about/vision-leadership/board-of-director
 s/committees/branch-leadership-committee/outdoor-leadership-committee/semi
 nars-clinics/safer-r-peer-support-mountaineers-seattle-program-center
END:VEVENT
END:VCALENDAR
