BEGIN:VCALENDAR
VERSION:2.0
PRODID:-//Plone.org//NONSGML plone.app.event//EN
X-WR-TIMEZONE:US/Pacific
BEGIN:VEVENT
SUMMARY:Risk Management in the Outdoors from a Mountain Rescue Perspective
  - Online Classroom
DTSTART;VALUE=DATE:20251016
DTEND;VALUE=DATE:20251017
DTSTAMP;VALUE=DATE-TIME:20260422T223221Z
UID:1b4ee52a888949d2b83ad0af0ca2ae35
CATEGORIES:Outdoor Leadership
DESCRIPTION:Learn how to mitigate and prevent risk in the outdoors from Dr
 . Dennis Eller in this Leadership Development Series webinar.
LOCATION:Online Classroom
URL:https://www.mountaineers.org/about/vision-leadership/board-of-director
 s/committees/branch-leadership-committee/outdoor-leadership-committee/semi
 nars-clinics/risk-management-in-the-outdoors-from-a-mountain-rescue-perspe
 ctive-online-classroom
END:VEVENT
END:VCALENDAR
