BEGIN:VCALENDAR
VERSION:2.0
PRODID:-//Plone.org//NONSGML plone.app.event//EN
X-WR-TIMEZONE:US/Pacific
BEGIN:VEVENT
SUMMARY:Risk Management in Dynamic Environments - Online Classroom
DTSTART;VALUE=DATE:20211117
DTEND;VALUE=DATE:20211118
DTSTAMP;VALUE=DATE-TIME:20260422T223056Z
UID:fdd1b2d6762444eb8b410094598c1cf1
CATEGORIES:Outdoor Leadership
DESCRIPTION:Evening webinar workshop about Risk Management in Dynamic Envi
 ronments with Tom Unger. This session will be online only.
LOCATION:Online Classroom
URL:https://www.mountaineers.org/about/vision-leadership/board-of-director
 s/committees/branch-leadership-committee/outdoor-leadership-committee/semi
 nars-clinics/risk-management-in-dynamic-environments-online-classroom
END:VEVENT
END:VCALENDAR
