BEGIN:VCALENDAR
VERSION:2.0
PRODID:-//Plone.org//NONSGML plone.app.event//EN
X-WR-TIMEZONE:US/Pacific
BEGIN:VEVENT
SUMMARY:Risk Management Discussions - Online Classroom
DTSTART;VALUE=DATE:20220105
DTEND;VALUE=DATE:20220106
DTSTAMP;VALUE=DATE-TIME:20260422T222939Z
UID:a93ffc609f9442f9b090bf0301c315c0
CATEGORIES:Outdoor Leadership
DESCRIPTION:Evening webinar workshop about Practical Risk Management with 
 Tom Unger. This session will be online only.
LOCATION:Online Classroom
URL:https://www.mountaineers.org/about/vision-leadership/board-of-director
 s/committees/branch-leadership-committee/outdoor-leadership-committee/semi
 nars-clinics/risk-management-discussions-online-classroom
END:VEVENT
END:VCALENDAR
