BEGIN:VCALENDAR
VERSION:2.0
PRODID:-//Plone.org//NONSGML plone.app.event//EN
X-WR-TIMEZONE:US/Pacific
BEGIN:VEVENT
SUMMARY:Risk Management Discussions - Online Classroom
DTSTART;VALUE=DATE:20230201
DTEND;VALUE=DATE:20230202
DTSTAMP;VALUE=DATE-TIME:20260422T222832Z
UID:d38102e41e4d444482762e6437f625fb
CATEGORIES:Outdoor Leadership
DESCRIPTION:Evening online workshop on practical risk management with Tom 
 Unger. This workshop is reserved for graduates and current students of Fou
 ndations of Leadership eLearning\, Foundations of Instruction eLearning\, 
 and/or Foundations of Leadership & Instruction In-person Course.
LOCATION:Online Classroom
URL:https://www.mountaineers.org/about/vision-leadership/board-of-director
 s/committees/branch-leadership-committee/outdoor-leadership-committee/semi
 nars-clinics/risk-management-discussions-2
END:VEVENT
END:VCALENDAR
