BEGIN:VCALENDAR
VERSION:2.0
PRODID:-//Plone.org//NONSGML plone.app.event//EN
X-WR-TIMEZONE:US/Pacific
BEGIN:VEVENT
SUMMARY:Remote Crisis De-escalation - Online Classroom
DTSTART;VALUE=DATE:20260219
DTEND;VALUE=DATE:20260220
DTSTAMP;VALUE=DATE-TIME:20260422T212356Z
UID:a61e87f506ab43068c8bb0a8e9ba8108
CATEGORIES:Outdoor Leadership
DESCRIPTION:Online webinar on how to de-escalate a remote crisis situation
  with Katja Hurt. A Leadership Development Series presentation.
LOCATION:Online Classroom
URL:https://www.mountaineers.org/about/vision-leadership/board-of-director
 s/committees/branch-leadership-committee/outdoor-leadership-committee/semi
 nars-clinics/remote-crisis-de-escalation-online-classroom-1
END:VEVENT
END:VCALENDAR
