BEGIN:VCALENDAR
VERSION:2.0
PRODID:-//Plone.org//NONSGML plone.app.event//EN
X-WR-TIMEZONE:US/Pacific
BEGIN:VEVENT
SUMMARY:Principles of Instruction - Mountaineers Seattle Program Center
DTSTART;VALUE=DATE:20200222
DTEND;VALUE=DATE:20200223
DTSTAMP;VALUE=DATE-TIME:20260422T234057Z
UID:25bdca4d77ec4811ad870323aef7f82a
CATEGORIES:Outdoor Leadership
DESCRIPTION:Facilitating a successful learning experience
LOCATION:Mountaineers Seattle Program Center
URL:https://www.mountaineers.org/about/vision-leadership/board-of-director
 s/committees/branch-leadership-committee/outdoor-leadership-committee/semi
 nars-clinics/principles-of-instruction-mountaineers-seattle-program-center
END:VEVENT
END:VCALENDAR
