BEGIN:VCALENDAR
VERSION:2.0
PRODID:-//Plone.org//NONSGML plone.app.event//EN
X-WR-TIMEZONE:US/Pacific
BEGIN:VEVENT
SUMMARY:Practicing Good Judgement in the Outdoors - Online Classroom
DTSTART;VALUE=DATE:20200520
DTEND;VALUE=DATE:20200521
DTSTAMP;VALUE=DATE-TIME:20260422T233351Z
UID:ff7fbf8facc6497883f5c612fc6a20f3
CATEGORIES:Outdoor Leadership
DESCRIPTION:An evening webinar workshop on practical risk management with 
 Tom Unger.  We will use scenarios and our own experience to discuss practi
 cal ways to think about risk management on trips.  On-line only.
LOCATION:Online Classroom
URL:https://www.mountaineers.org/about/vision-leadership/board-of-director
 s/committees/branch-leadership-committee/outdoor-leadership-committee/semi
 nars-clinics/practicing-good-judgement-in-the-outdoors-online-classroom
END:VEVENT
END:VCALENDAR
