BEGIN:VCALENDAR
VERSION:2.0
PRODID:-//Plone.org//NONSGML plone.app.event//EN
X-WR-TIMEZONE:US/Pacific
BEGIN:VEVENT
SUMMARY:Practical Risk Management - Online Classroom
DTSTART;VALUE=DATE:20210112
DTEND;VALUE=DATE:20210113
DTSTAMP;VALUE=DATE-TIME:20260422T222837Z
UID:1eb3d5cd3d4644b389106f1a01adca75
CATEGORIES:Outdoor Leadership
DESCRIPTION:Evening webinar about Running with Scissors: Practical Risk Ma
 nagement with Tom Unger. This session will be online only.
LOCATION:Online Classroom
URL:https://www.mountaineers.org/about/vision-leadership/board-of-director
 s/committees/branch-leadership-committee/outdoor-leadership-committee/semi
 nars-clinics/practical-risk-management-online-classroom
END:VEVENT
END:VCALENDAR
