BEGIN:VCALENDAR
VERSION:2.0
PRODID:-//Plone.org//NONSGML plone.app.event//EN
X-WR-TIMEZONE:US/Pacific
BEGIN:VEVENT
SUMMARY:Mental Health First Aid - Online Classroom
DTSTART;VALUE=DATE:20240420
DTEND;VALUE=DATE:20240421
DTSTAMP;VALUE=DATE-TIME:20260422T223241Z
UID:f3cc794e5bbc4e98bdbe9aea8c92391a
CATEGORIES:Outdoor Leadership
DESCRIPTION:All-day weekend online webinar on adult mental health first ai
 d with Oregon State University. A Leadership Development Series presentati
 on.
LOCATION:Online Classroom
URL:https://www.mountaineers.org/about/vision-leadership/board-of-director
 s/committees/branch-leadership-committee/outdoor-leadership-committee/semi
 nars-clinics/mental-health-first-aid-online-classroom
END:VEVENT
END:VCALENDAR
