BEGIN:VCALENDAR
VERSION:2.0
PRODID:-//Plone.org//NONSGML plone.app.event//EN
X-WR-TIMEZONE:US/Pacific
BEGIN:VEVENT
SUMMARY:Making Risk Management Tangible for Trip Leaders Using Cross-Indus
 try Adaptations - Online Classroom
DTSTART;VALUE=DATE:20231109
DTEND;VALUE=DATE:20231110
DTSTAMP;VALUE=DATE-TIME:20260422T200120Z
UID:03df9c0872bd4b0eabfdd45ccdfea6a9
CATEGORIES:Outdoor Leadership
DESCRIPTION:Online webinar with Rumi Kodama on a trip leader centered risk
  management framework Part of the of the Leadership Development Series.
LOCATION:Online Classroom
URL:https://www.mountaineers.org/about/vision-leadership/board-of-director
 s/committees/branch-leadership-committee/outdoor-leadership-committee/semi
 nars-clinics/making-risk-management-tangible-for-trip-leaders-using-cross-
 industry-adaptations-online-classroom
END:VEVENT
END:VCALENDAR
