BEGIN:VCALENDAR
VERSION:2.0
PRODID:-//Plone.org//NONSGML plone.app.event//EN
X-WR-TIMEZONE:US/Pacific
BEGIN:VEVENT
SUMMARY:Logistics of Trip Leadership - Online Classroom
DTSTART;VALUE=DATE:20201020
DTEND;VALUE=DATE:20201021
DTSTAMP;VALUE=DATE-TIME:20260422T234057Z
UID:ed7dcdafea4742949ac09b83befd8491
CATEGORIES:Outdoor Leadership
DESCRIPTION:Gain confidence in leading more complex trips - an evening web
 inar with Tom Unger. This session will be online only.
LOCATION:Online Classroom
URL:https://www.mountaineers.org/about/vision-leadership/board-of-director
 s/committees/branch-leadership-committee/outdoor-leadership-committee/semi
 nars-clinics/logistics-of-trip-leadership-online-classroom
END:VEVENT
END:VCALENDAR
