BEGIN:VCALENDAR
VERSION:2.0
PRODID:-//Plone.org//NONSGML plone.app.event//EN
X-WR-TIMEZONE:US/Pacific
BEGIN:VEVENT
SUMMARY:Lessons Learned from Aasgard Pass - Online Classroom
DTSTART;VALUE=DATE:20260429
DTEND;VALUE=DATE:20260430
DTSTAMP;VALUE=DATE-TIME:20260420T114115Z
UID:660245d553e5417bbc141e222f001792
CATEGORIES:Outdoor Leadership
DESCRIPTION:A Leadership Development Series webinar with Steve Smith. Lear
 n from Steve Smith's Aasgard Pass incident\, his improbable escape\, and t
 he lessons learned in the aftermath. More than just a technical analysis o
 f the incident\, this is a deep dive into post-incident trauma\, shame\, r
 ecovery\, and restoration.
LOCATION:Online Classroom
URL:https://www.mountaineers.org/about/vision-leadership/board-of-director
 s/committees/branch-leadership-committee/outdoor-leadership-committee/semi
 nars-clinics/lessons-learned-from-aasgard-pass-online-classroom-1
END:VEVENT
END:VCALENDAR
